BEGIN:VCALENDAR
VERSION:2.0
PRODID:-//Library Market//iCal Export//EN
BEGIN:VEVENT
SUMMARY:Planning Board
UID:19012
DTSTAMP:20260420T220100Z
DTSTART:20260521T230000Z
DTEND:20260522T020000Z
LOCATION:York Public Library, 15 Long Sands Rd, York, ME 03909, United Sta
 tes
ROOM: Community Room
DESCRIPTION:Planning
URL:https://yorkpl.librarycalendar.com/event/planning-board-19012
END:VEVENT
END:VCALENDAR
