BEGIN:VCALENDAR
VERSION:2.0
PRODID:-//Library Market//iCal Export//EN
BEGIN:VEVENT
SUMMARY:Alzheimer&#039;s Support Group
UID:19052
DTSTAMP:20260426T024400Z
DTSTART:20260919T140000Z
DTEND:20260919T150000Z
LOCATION:York Public Library, 15 Long Sands Rd, York, ME 03909, United Sta
 tes
ROOM: Wheeler Room
DESCRIPTION:This group is for caregivers. Get the support you need. Meet s
 afely with others for supportive, meaningful discussion led by a trained f
 acilitator.Build a support system with people who understand. Alzheimer’
 s Association® support groups, conducted by trained facilitators, are a s
 afe place for people living with dementia and their care partners to:• D
 evelop a support system.• Exchange practical information on challenges a
 nd possible solutions.• Talk through issues and ways of coping.• Share
  feelings, needs and concerns.• Learn about community resources.This gro
 up meets the 3rd Saturday of each month.
URL:https://yorkpl.librarycalendar.com/index.php/event/alzheimers-support-
 group-19052
END:VEVENT
END:VCALENDAR
