BEGIN:VCALENDAR
VERSION:2.0
PRODID:-//Library Market//iCal Export//EN
BEGIN:VEVENT
SUMMARY:Planning Board
UID:19034
DTSTAMP:20260423T173900Z
DTSTART:20260507T230000Z
DTEND:20260508T020000Z
LOCATION:York Public Library, 15 Long Sands Rd, York, ME 03909, United Sta
 tes
ROOM: Community Room
DESCRIPTION:Planning
URL:https://yorkpl.librarycalendar.com/index.php/event/planning-board-1903
 4
END:VEVENT
END:VCALENDAR
