BEGIN:VCALENDAR
VERSION:2.0
PRODID:-//Library Market//iCal Export//EN
BEGIN:VEVENT
SUMMARY:YRCA Energy Coaches
UID:18997
DTSTAMP:20260425T135900Z
DTSTART:20260714T190000Z
DTEND:20260714T210000Z
LOCATION:York Public Library, 15 Long Sands Rd, York, ME 03909, United Sta
 tes
ROOM: Wheeler Room
DESCRIPTION:Energy Coach update meeting
URL:https://yorkpl.librarycalendar.com/index.php/event/yrca-energy-coaches
 -18997
END:VEVENT
END:VCALENDAR
